BEGIN:VCALENDAR
VERSION:2.0
PRODID:-//CECOSA Web Portal - ECPv6.11.2//NONSGML v1.0//EN
CALSCALE:GREGORIAN
METHOD:PUBLISH
X-ORIGINAL-URL:https://new.cecosa.co.za
X-WR-CALDESC:Events for CECOSA Web Portal
REFRESH-INTERVAL;VALUE=DURATION:PT1H
X-Robots-Tag:noindex
X-PUBLISHED-TTL:PT1H
BEGIN:VTIMEZONE
TZID:UTC
BEGIN:STANDARD
TZOFFSETFROM:+0000
TZOFFSETTO:+0000
TZNAME:UTC
DTSTART:20240101T000000
END:STANDARD
END:VTIMEZONE
BEGIN:VEVENT
DTSTART;VALUE=DATE:20240123
DTEND;VALUE=DATE:20240126
DTSTAMP:20260421T111208
CREATED:20231229T160006Z
LAST-MODIFIED:20231229T160006Z
UID:2966-1705968000-1706227199@new.cecosa.co.za
SUMMARY:COSMOPROF NORTHA AMERICA – MIAMI EDITION (closed for application)
DESCRIPTION:Cosmoprof North America (CPNA) is the leading business-to-business (B2B) beauty exhibition in the Americas. Recognized for its dynamic growth and unique programs\, the event offers the entire beauty industry an opportunity to come together to make new relationships and foster collaborations. \nCPNA serves as the premier launching pad for new beauty brands by introducing revolutionary technologies\, product innovations\, and new channels of manufacturing\, packaging\, and distribution. \n 
URL:https://new.cecosa.co.za/event/cosmoprof-northa-america-miami-edition-closed-for-application/
LOCATION:Miami Beach Convention Center\, 1901 Convention Ctr Dr\, Miami Beach\, Miami\, FL\, 33139\, United States
ATTACH;FMTTYPE=image/jpeg:https://new.cecosa.co.za/wp-content/uploads/2023/12/pexels-olena-bohovyk-3541389-scaled-e1703335794149.jpg
END:VEVENT
END:VCALENDAR